BEGIN:VCALENDAR
VERSION:2.0
PRODID:-//ChamberMaster//Event Calendar 2.0//EN
METHOD:PUBLISH
X-PUBLISHED-TTL:P3D
REFRESH-INTERVAL:P3D
CALSCALE:GREGORIAN
BEGIN:VEVENT
DTSTART:20151030T230000Z
DTEND:20151101T030000Z
X-MICROSOFT-CDO-ALLDAYEVENT:FALSE
SUMMARY:Halloween Party Murder - Mystery & Dinner
DESCRIPTION:Doors open at 6:00 pm for Cast Mingle\, Dinner at 6:30\n\nMurder Mystery provided by Die Laughing Entertainment\n\nHalloween Costumes Encouraged.\n\n\n\nMenu to include:  Smoked BBQ Beef Brisket\, Grilled Chicken\, plus sides and an assorted dessert buffet.  Cash Bar available.\n\n\n\nWelcome to the Stratford's Annual Halloween Party  -  the event of the year for those of you that were lucky enough to be invited!  The guests have all arrived in costume and the party is in full swing when a horrific discovery is made....the body of one of the guests is found!  But he wasn't merely "scared to death" ...this was a murder!\n\n\n\nIt's not just a show...it's up to you to question the suspects\, look for clues\, eavesdrop on conversations\, and find out who did it!  Just beware! The killer is hiding somewhere in the room!\n\n\n\nEast Port Banquet Center * 703 Mariners Way\n\nCall 309-692-3990 for reservations
X-ALT-DESC;FMTTYPE=text/html:Doors open at 6:00 pm for Cast Mingle\, Dinner at 6:30<br />\nMurder Mystery provided by Die Laughing Entertainment<br />\nHalloween Costumes Encouraged.<br />\n<br />\nMenu to include: &nbsp\;Smoked BBQ Beef Brisket\, Grilled Chicken\, plus sides and an assorted dessert buffet. &nbsp\;Cash Bar available.<br />\n<br />\nWelcome to the Stratford&#39\;s Annual Halloween Party &nbsp\;- &nbsp\;the event of the year for those of you that were lucky enough to be invited! &nbsp\;The guests have all arrived in costume and the party is in full swing when a horrific discovery is made....the body of one of the guests is found! &nbsp\;But he wasn&#39\;t merely &quot\;scared to death&quot\; ...this was a murder!<br />\n<br />\nIt&#39\;s not just a show...it&#39\;s up to you to question the suspects\, look for clues\, eavesdrop on conversations\, and find out who did it! &nbsp\;Just beware! The killer is hiding somewhere in the room!<br />\n<br />\nEast Port Banquet Center * 703 Mariners Way<br />\nCall 309-692-3990 for reservations
LOCATION:East Port Banquet & Meeting Center
UID:e.526.2793
SEQUENCE:3
DTSTAMP:20260424T215506Z
URL:https://business.epcc.org/events/details/halloween-party-murder-mystery-dinner-10-30-2015-2793
END:VEVENT

END:VCALENDAR
