BEGIN:VCALENDAR
VERSION:2.0
PRODID:-//ChamberMaster//Event Calendar 2.0//EN
METHOD:PUBLISH
X-PUBLISHED-TTL:P3D
REFRESH-INTERVAL:P3D
CALSCALE:GREGORIAN
BEGIN:VEVENT
DTSTART:20180825T150000Z
DTEND:20180825T190000Z
X-MICROSOFT-CDO-ALLDAYEVENT:FALSE
SUMMARY:Hanna City Heritage Days Parade - Walk with Mike Unes
DESCRIPTION:Walk with Mike Unes' Team during the Hanna City Heritage Days Parade!\n\nSign up here.
X-ALT-DESC;FMTTYPE=text/html:Walk with Mike Unes&#39\; Team during the Hanna City Heritage Days Parade!<br />\nSign up <a href="https://docs.google.com/forms/d/e/1FAIpQLSeLvwpD04yJCiGuUyetHIPVGTa0uavg4oxhmAqun_jOL1DKiw/viewform">here.</a>
LOCATION:Hanna City United Methodist Church 12208 W. Farmington Rd Hanna City\, IL 61536
UID:e.526.5607
SEQUENCE:3
DTSTAMP:20260421T070429Z
URL:https://business.epcc.org/events/details/hanna-city-heritage-days-parade-walk-with-mike-unes-5607
END:VEVENT

END:VCALENDAR
