BEGIN:VCALENDAR
VERSION:2.0
PRODID:-//ChamberMaster//Event Calendar 2.0//EN
METHOD:PUBLISH
X-PUBLISHED-TTL:P3D
REFRESH-INTERVAL:P3D
CALSCALE:GREGORIAN
BEGIN:VEVENT
DTSTART:20191026T233000Z
DTEND:20191027T010000Z
X-MICROSOFT-CDO-ALLDAYEVENT:FALSE
SUMMARY:Happy Hall O' Wheels at Wheels O' Time
DESCRIPTION:For children through 8th grade. $3.50 per kid includes Hall O' Wheels treats and a not too spooky adventure through the museum's main building.
X-ALT-DESC;FMTTYPE=text/html:<span style="color:rgb(29\, 33\, 41)\; font-family:system-ui\,-apple-system\,system-ui\,.sfnstext-regular\,sans-serif\; font-size:14px">For children through 8th grade. $3.50 per kid includes Hall O&#39\; Wheels treats and a not too spooky adventure through the museum&#39\;s main building. </span>
LOCATION:Wheels O' Time Museum 1710 W Woodside Drive Dunlap\, IL 61525
UID:e.526.6221
SEQUENCE:3
DTSTAMP:20260420T110923Z
URL:https://business.epcc.org/events/details/happy-hall-o-wheels-at-wheels-o-time-6221
END:VEVENT

END:VCALENDAR
