BEGIN:VCALENDAR
VERSION:2.0
PRODID:-//ChamberMaster//Event Calendar 2.0//EN
METHOD:PUBLISH
X-PUBLISHED-TTL:P3D
REFRESH-INTERVAL:P3D
CALSCALE:GREGORIAN
BEGIN:VEVENT
DTSTART:20150926T230000Z
DTEND:20150927T020000Z
X-MICROSOFT-CDO-ALLDAYEVENT:FALSE
SUMMARY:Harvesting Hope Fall Fundraiser for Pediatric Resource Center
DESCRIPTION:The Pediatric Resource Center continues to see an increasing number of children who are suspected victims of abuse.  As the number of victims continue to grow each year so does the need to provide those services.\n\n \n\nThe annual Harvesting Hope fundraiser helps PRC provide ongoing child abuse prevention education and ensures clinics are staffed so children can receive the services crucial to their well-being and safety.
X-ALT-DESC;FMTTYPE=text/html:<span style="font-family:arial\;"><span style="font-size:11.5pt\;">The Pediatric Resource Center continues to see an increasing number of children who are suspected victims of abuse.&nbsp\; As the number of victims continue to grow each year so does the need to provide those services.</span></span><br />\n&nbsp\;<br />\n<span style="font-family:arial\;"><span style="font-size:11.5pt\;">The annual Harvesting Hope fundraiser helps PRC provide ongoing child abuse prevention education and ensures clinics are staffed so children can receive the services crucial to their well-being and safety.</span></span>
LOCATION:Jump Trading Simulation & Education Center Auditorium 1306 N. Berkeley Ave.\, Peoria (adjacent to OSF Saint Francis Medical Center)
UID:e.526.2788
SEQUENCE:3
DTSTAMP:20260424T232240Z
URL:https://business.epcc.org/events/details/harvesting-hope-fall-fundraiser-for-pediatric-resource-center-09-26-2015-2788
END:VEVENT

END:VCALENDAR
