BEGIN:VCALENDAR
VERSION:2.0
PRODID:-//ChamberMaster//Event Calendar 2.0//EN
METHOD:PUBLISH
X-PUBLISHED-TTL:P3D
REFRESH-INTERVAL:P3D
CALSCALE:GREGORIAN
BEGIN:VEVENT
DTSTART:20151217T220000Z
DTEND:20151217T233000Z
X-MICROSOFT-CDO-ALLDAYEVENT:FALSE
SUMMARY:Health & Happiness Teen Workshop
DESCRIPTION:Do you have an interest in helping others become healthier and happier? Learn more about careers in the growing field of healthcare from professionals in the community\, and maybe even pick up some tips to improve your own wellness! Call to reserve your spot.
X-ALT-DESC;FMTTYPE=text/html:Do you have an interest in helping others become healthier and happier? Learn more about careers in the growing field of healthcare from professionals in the community\, and maybe even pick up some tips to improve your own wellness! Call to reserve your spot.
LOCATION:Goodwill Commons\, 2319 E. War Memorial Dr.\, Peoria\, IL 61614
UID:e.526.2880
SEQUENCE:3
DTSTAMP:20260424T204544Z
URL:https://business.epcc.org/events/details/health-happiness-teen-workshop-12-17-2015-2880
END:VEVENT

END:VCALENDAR
