BEGIN:VCALENDAR
VERSION:2.0
PRODID:-//ChamberMaster//Event Calendar 2.0//EN
METHOD:PUBLISH
X-PUBLISHED-TTL:P3D
REFRESH-INTERVAL:P3D
CALSCALE:GREGORIAN
BEGIN:VEVENT
DTSTART:20190810T150000Z
DTEND:20190810T170000Z
X-MICROSOFT-CDO-ALLDAYEVENT:FALSE
SUMMARY:Healthy Lives 4 Kids Day
DESCRIPTION:Parents want their kids to be healthy and active\, but sometimes that isn't easy.  Join the team from OSF HealthCare Children's Hospital of Illinois for a Healthy Lives for Kids day that will leave  you with ideas on ways to get your children moving in the right direction with their health. \n\n \n\nThe two hours will be packed with interactive games and activities the whole family can enjoy\, including an obstacle course\, a kid-friendly snack station\, dancing and much more to promote health and wellness in children. \n\n \n\nEach child will receive a variety of giveaways\, including a wrist pedometer\, water bottle\, bedtime chart\, and lunch container. There will even be raffle prizes. \n\n \n\nThe event is free and open to the first 250 kids who register.
X-ALT-DESC;FMTTYPE=text/html:Parents want their kids to be healthy and active\, but sometimes that isn&rsquo\;t easy.&nbsp\; Join the team from OSF HealthCare Children&rsquo\;s Hospital of Illinois for a Healthy Lives for Kids day that will leave&nbsp\; you with ideas on ways to get your children moving in the right direction with their health.&nbsp\;<br />\n&nbsp\;<br />\nThe two hours will be packed with interactive games and activities the whole family can enjoy\, including an obstacle course\, a kid-friendly snack station\, dancing and much more to promote health and wellness in children.&nbsp\;<br />\n&nbsp\;<br />\nEach child will receive a variety of giveaways\, including a wrist pedometer\, water bottle\, bedtime chart\, and lunch container. There will even be raffle prizes.&nbsp\;<br />\n&nbsp\;<br />\nThe event is free and open to the first 250 kids who register.&nbsp\;
LOCATION:Greater Peoria Family YMCA 7000 North Fleming Lane\, Peoria
UID:e.526.6174
SEQUENCE:3
DTSTAMP:20260420T130153Z
URL:https://business.epcc.org/events/details/healthy-lives-4-kids-day-6174
END:VEVENT

END:VCALENDAR
