BEGIN:VCALENDAR
VERSION:2.0
PRODID:-//ChamberMaster//Event Calendar 2.0//EN
METHOD:PUBLISH
X-PUBLISHED-TTL:P3D
REFRESH-INTERVAL:P3D
CALSCALE:GREGORIAN
BEGIN:VEVENT
DTSTART:20190604T230000Z
DTEND:20190605T020000Z
X-MICROSOFT-CDO-ALLDAYEVENT:FALSE
SUMMARY:Heart of Illinois Chorus Open House
DESCRIPTION:The Heart of Illinois Chorus\, in residence at Illinois Central College\, will host a free open house for three consecutive Tuesdays starting May 21 at 6 p.m. in the ICC Performing Arts Center\, located on the East Peoria Campus.\n\n            The event is being offered to area females interested in singing and learning more about the four-part barbershop style of harmony. The other sessions will take place May 28 and June 4. All begin at 6 p.m. and last until 9 p.m. Advance registration is not required. Interested females are encouraged to attend all three sessions but can attend fewer\, if only able to do so.\n\n            The Heart of Illinois Chorus was founded in 1982 and is a member of Sweet Adelines International\, a worldwide non-profit organization dedicated to women's a cappella four-part harmony arranged in a the barbershop style. The group has won regional championships four times\, earning the right to compete internationally those four years.\n\n            For more information about this event or the organization\, contact the Heart of Illinois Chorus through its web site\, HOIChorus.com or by email at admin@hoichorus.com.\n\n            The Heart of Illinois Chorus is supported as an in-residence ensemble by the Arts at ICC\, which has a rich history of enhancing the arts community and expanding education beyond the classroom. Arts at ICC presents more than 500 exhibits\, performances\, lectures\, rehearsals\, meetings\, master classes\, clinics\, seminars\, receptions\, orientations\, forums\, auditions and tournaments annually.
X-ALT-DESC;FMTTYPE=text/html:&nbsp\;&nbsp\;&nbsp\;&nbsp\;&nbsp\;&nbsp\;&nbsp\;&nbsp\;&nbsp\;&nbsp\;&nbsp\; The Heart of Illinois Chorus\, in residence at Illinois Central College\, will host a free open house for three consecutive Tuesdays starting May 21 at 6 p.m. in the ICC Performing Arts Center\, located on the East Peoria Campus.<br />\n&nbsp\;&nbsp\;&nbsp\;&nbsp\;&nbsp\;&nbsp\;&nbsp\;&nbsp\;&nbsp\;&nbsp\;&nbsp\; The event is being offered to area females interested in singing and learning more about the four-part barbershop style of harmony. The other sessions will take place May 28 and June 4. All begin at 6 p.m. and last until 9 p.m. Advance registration is not required. Interested females are encouraged to attend all three sessions but can attend fewer\, if only able to do so.<br />\n&nbsp\;&nbsp\;&nbsp\;&nbsp\;&nbsp\;&nbsp\;&nbsp\;&nbsp\;&nbsp\;&nbsp\;&nbsp\; The Heart of Illinois Chorus was founded in 1982 and is a member of Sweet Adelines International\, a worldwide non-profit organization dedicated to women&rsquo\;s a cappella four-part harmony arranged in a the barbershop style. The group has won regional championships four times\, earning the right to compete internationally those four years.<br />\n&nbsp\;&nbsp\;&nbsp\;&nbsp\;&nbsp\;&nbsp\;&nbsp\;&nbsp\;&nbsp\;&nbsp\;&nbsp\; For more information about this event or the organization\, contact the Heart of Illinois Chorus through its web site\, <a href="https://hoichorus.com/">HOIChorus.com</a> or by email at <a href="mailto:admin@hoichorus.com">admin@hoichorus.com</a>.<br />\n&nbsp\;&nbsp\;&nbsp\;&nbsp\;&nbsp\;&nbsp\;&nbsp\;&nbsp\;&nbsp\;&nbsp\;&nbsp\; The Heart of Illinois Chorus is supported as an in-residence ensemble by the Arts at ICC\, which has a rich history of enhancing the arts community and expanding education beyond the classroom. Arts at ICC presents more than 500 exhibits\, performances\, lectures\, rehearsals\, meetings\, master classes\, clinics\, seminars\, receptions\, orientations\, forums\, auditions and tournaments annually.
LOCATION:
UID:e.526.6078
SEQUENCE:3
DTSTAMP:20260420T153650Z
URL:https://business.epcc.org/events/details/heart-of-illinois-chorus-open-house-06-04-2019-6078
END:VEVENT

END:VCALENDAR
