BEGIN:VCALENDAR
VERSION:2.0
PRODID:-//ChamberMaster//Event Calendar 2.0//EN
METHOD:PUBLISH
X-PUBLISHED-TTL:P3D
REFRESH-INTERVAL:P3D
CALSCALE:GREGORIAN
BEGIN:VEVENT
DTSTART:20181212T143000Z
DTEND:20181212T180000Z
X-MICROSOFT-CDO-ALLDAYEVENT:FALSE
SUMMARY:Heyl Royster Annual Governmental Holiday Seminar
DESCRIPTION:Please join us for this complimentary seminar! A light breakfast will be served. Registration will begin at 8:30 a.m.\n\n\n\nPlease RSVP by December 10 - space is limited.\n\nwww.heylroyster.com/seminar
X-ALT-DESC;FMTTYPE=text/html:<span style="color:black\;"><span style="font-family:arial\,sans-serif\;"><span style="font-size:10.5pt\;">Please join us for this complimentary seminar!</span></span></span><span style="color:black\;"><span style="font-family:arial\,sans-serif\;"><span style="font-size:10.5pt\;">&nbsp\;</span></span></span><span style="color:black\;"><span style="font-family:arial\,sans-serif\;">A light breakfast will be served. Registration will begin at 8:30 a.m.</span></span><br />\n<br />\n<strong><span style="color:black\;"><span style="font-family:arial\,sans-serif\;"><span style="font-size:10.5pt\;">Please RSVP by December 10 - space is limited.</span></span></span></strong><br />\n<strong><span style="color:black\;"><span style="font-family:arial\,sans-serif\;"><span style="font-size:12.0pt\;"><a href="http://www.heylroyster.com/seminar"><span style="font-weight:normal\;">www.heylroyster.com/seminar</span></a></span></span></span></strong>
LOCATION:Heyl Royster Learning Center 300 Hamilton Boulevard
UID:e.526.5901
SEQUENCE:3
DTSTAMP:20260421T022403Z
URL:https://business.epcc.org/events/details/heyl-royster-annual-governmental-holiday-seminar-5901
END:VEVENT

END:VCALENDAR
