BEGIN:VCALENDAR
VERSION:2.0
PRODID:-//ChamberMaster//Event Calendar 2.0//EN
METHOD:PUBLISH
X-PUBLISHED-TTL:P3D
REFRESH-INTERVAL:P3D
CALSCALE:GREGORIAN
BEGIN:VEVENT
DTSTART:20160225T233000Z
DTEND:20160226T020000Z
X-MICROSOFT-CDO-ALLDAYEVENT:FALSE
SUMMARY:Hopedale Medical Complex's Dinner & Discussion for Women's Health
DESCRIPTION:Dinner and Discussion for Women's Health
X-ALT-DESC;FMTTYPE=text/html:Dinner and Discussion for Women&#39\;s Health
LOCATION:White Fence Estate 104 Hittle Road\, Hopedale IL
UID:e.526.3009
SEQUENCE:3
DTSTAMP:20260424T170258Z
URL:https://business.epcc.org/events/details/hopedale-medical-complex-s-dinner-discussion-for-women-s-health-02-25-2016-3009
END:VEVENT

END:VCALENDAR
