BEGIN:VCALENDAR
VERSION:2.0
PRODID:-//ChamberMaster//Event Calendar 2.0//EN
METHOD:PUBLISH
X-PUBLISHED-TTL:P3D
REFRESH-INTERVAL:P3D
CALSCALE:GREGORIAN
BEGIN:VEVENT
DTSTART:20180727T140000Z
DTEND:20180727T160000Z
X-MICROSOFT-CDO-ALLDAYEVENT:FALSE
SUMMARY:Hospitality Community Appreciation Breakfast
DESCRIPTION:BREAKFAST | GIVEAWAY | CELEBRATION\n\n\n\nJoin us in celebrating your continued support of the East Peoria hospitality community\, and learn what is new and exciting in the Levee District!\n\n\n\nBreakfast will include a giveaway of five $100 Visa gift cards and more (must be present to win)!\n\n\n\nPlease RSVP to epcc@epcc.org by July 23rd\n\n\n\nHosted by:\n\nEmbassy Suites Hotel & Conference Center\, Par-A-Dice Hotel & Casino\, & Holiday Inn & Suites
X-ALT-DESC;FMTTYPE=text/html:<br />\n<strong><span style="font-family:arial\;"><span style="color:#0000CD\;">BREAKFAST | GIVEAWAY | CELEBRATION</span><br />\n<br />\nJoin us in celebrating your continued support of the East Peoria hospitality community\, and learn what is new and exciting in the Levee District!<br />\n<br />\nBreakfast will include a giveaway of five $100 Visa gift cards and more (must be present to win)!<br />\n<br />\nPlease RSVP to epcc@epcc.org by July 23rd<br />\n<br />\nHosted by:<br />\nEmbassy Suites Hotel &amp\; Conference Center\, Par-A-Dice Hotel &amp\; Casino\, &amp\; Holiday Inn &amp\; Suites</span></strong>
LOCATION:Fondulac Room 201 Clock Tower Drive East Peoria\, IL
UID:e.526.5566
SEQUENCE:3
DTSTAMP:20260421T084601Z
URL:https://business.epcc.org/events/details/hospitality-community-appreciation-breakfast-5566
END:VEVENT

END:VCALENDAR
