BEGIN:VCALENDAR
VERSION:2.0
PRODID:-//ChamberMaster//Event Calendar 2.0//EN
METHOD:PUBLISH
X-PUBLISHED-TTL:P3D
REFRESH-INTERVAL:P3D
CALSCALE:GREGORIAN
BEGIN:VEVENT
DTSTART:20170401T230000Z
DTEND:20170402T040000Z
X-MICROSOFT-CDO-ALLDAYEVENT:FALSE
SUMMARY:Howlin' on Water... Dueling Pianos
DESCRIPTION:3/31 & 4/1   Howlin' on Water Dueling Pianos. Dinner and show for $40pp plus tax. Doors open at 6p\, Dinner Buffet from 6:30p-7:30p\, Dessert at 7:30p\, Show is 8p-11p. HowlinOnWater.com or call 309-494-9100 to purchase seats.   Broadway Lounge
X-ALT-DESC;FMTTYPE=text/html:<span style="font-size: 10pt\;">3/31 &amp\; 4/1 &ndash\; <strong>Howlin&rsquo\; on Water&hellip\;Dueling Pianos</strong>. Dinner and show for $40pp plus tax. Doors open at 6p\, Dinner Buffet from 6:30p-7:30p\, Dessert at 7:30p\, Show is 8p-11p. HowlinOnWater.com or call 309-494-9100 to purchase seats. &ndash\; <strong>Broadway Lounge</strong></span><br />\n&nbsp\;
LOCATION:The Waterhouse's Broadway Lounge 316 SW Washington St Peoria\, IL 61602
UID:e.526.3725
SEQUENCE:3
DTSTAMP:20260422T100354Z
URL:https://business.epcc.org/events/details/howlin-on-water-dueling-pianos-04-01-2017-3725
END:VEVENT

END:VCALENDAR
