BEGIN:VCALENDAR
VERSION:2.0
PRODID:-//ChamberMaster//Event Calendar 2.0//EN
METHOD:PUBLISH
X-PUBLISHED-TTL:P3D
REFRESH-INTERVAL:P3D
CALSCALE:GREGORIAN
BEGIN:VEVENT
DTSTART:20170428T233000Z
DTEND:20170429T033000Z
X-MICROSOFT-CDO-ALLDAYEVENT:FALSE
SUMMARY:Howlin' on Water... Dueling Pianos
DESCRIPTION:Howlin' on Water Dueling Pianos at The Waterhouse\, in the MAXAM Building on the 1st floor in the BROADWAY LOUNGE : 316 SW Washington Street\, Peoria\, IL Cost for dinner and show is $40 per person\, plus tax! Doors open at 6:00 pm\, with the dinner buffet available at 6:30 pm\, Dessert/Coffee service follows\, and the Show is from 7:30   10:30 pm. Seats are on sale now! Call 309-494-9100 or visit www.howlinonwater.com to buy your seats online!\n\nBuffet menu is Kahlua Pulled Pork\, Waterhouse Chicken (boneless breast in a creamy white wine sauce with mushrooms)\, Tossed Mixed Greens\, Smashed Potatoes\, Two Vegetable Choices\, Dinner Rolls\, and Texas Sheetcake. *Vegetarian Pasta Primavera in a light alfredo available with prior notice.
X-ALT-DESC;FMTTYPE=text/html:<span style="color: black\;"><span style="font-family: arial\,sans-serif\;"><span style="font-size: 10.5pt\;">Howlin&#39\; on Water&hellip\;Dueling Pianos at The Waterhouse\, in the MAXAM Building on the 1st floor in the BROADWAY LOUNGE : 316 SW Washington Street\, Peoria\, IL Cost for dinner and show is $40 per person\, plus tax! Doors open at 6:00 pm\, with the dinner buffet available at 6:30 pm\, Dessert/Coffee service follows\, and the Show is from 7:30 &ndash\; 10:30 pm. Seats are on sale now! Call 309-494-9100 or visit www.howlinonwater.com to buy your seats online!</span></span></span><br />\n<span style="color: black\;"><span style="font-family: arial\,sans-serif\;"><span style="font-size: 10.5pt\;">Buffet menu is Kahlua Pulled Pork\, Waterhouse Chicken (boneless breast in a creamy white wine sauce with mushrooms)\, Tossed Mixed Greens\, Smashed Potatoes\, Two Vegetable Choices\, Dinner Rolls\, and Texas Sheetcake. *Vegetarian Pasta Primavera in a light alfredo available with prior notice.&nbsp\;</span></span></span><br />\n<br />\n&nbsp\;
LOCATION:The Waterhouse's Broadway Lounge 316 SW Washington St Peoria\, IL 61602
UID:e.526.4280
SEQUENCE:3
DTSTAMP:20260422T112443Z
URL:https://business.epcc.org/events/details/howlin-on-water-dueling-pianos-4280
END:VEVENT

END:VCALENDAR
