BEGIN:VCALENDAR
VERSION:2.0
PRODID:-//ChamberMaster//Event Calendar 2.0//EN
METHOD:PUBLISH
X-PUBLISHED-TTL:P3D
REFRESH-INTERVAL:P3D
CALSCALE:GREGORIAN
BEGIN:VEVENT
DTSTART:20180608T150000Z
DTEND:20180608T230000Z
X-MICROSOFT-CDO-ALLDAYEVENT:FALSE
SUMMARY:Hult Center for Healthy Living 8th Annual Mike Seneca Golf Outing
DESCRIPTION:Join us for our 8th Annual Mike Seneca Golf Classic at the Metamora Fields Golf Club. With challenges and obstacles on the course\, it's sure to be the most fun you will have on the course this summer! Sponsorship opportunities are available. Come be a part of the fun!
X-ALT-DESC;FMTTYPE=text/html:<span style="font-size:12px\;"><span style="color: rgb(255\, 255\, 255)\; font-family: Arial\, Helvetica\, sans-serif\; background-color: rgb(77\, 76\, 68)\;">Join us for our 8th Annual Mike Seneca Golf Classic at the Metamora Fields Golf Club. With challenges and obstacles on the course\, it&#39\;s sure to be the most fun you will have on the course this summer! Sponsorship opportunities are available. Come be a part of the fun!</span></span>
LOCATION:Metamora Fields Golf Club 801 W. Progress St. Metamora\, IL 61548
UID:e.526.5514
SEQUENCE:3
DTSTAMP:20260421T141010Z
URL:https://business.epcc.org/events/details/hult-center-for-healthy-living-8th-annual-mike-seneca-golf-outing-5514
END:VEVENT

END:VCALENDAR
