BEGIN:VCALENDAR
VERSION:2.0
PRODID:-//ChamberMaster//Event Calendar 2.0//EN
METHOD:PUBLISH
X-PUBLISHED-TTL:P3D
REFRESH-INTERVAL:P3D
CALSCALE:GREGORIAN
BEGIN:VEVENT
DTSTART:20190413T130000Z
DTEND:20190413T170000Z
X-MICROSOFT-CDO-ALLDAYEVENT:FALSE
SUMMARY:I Run with Survivors
DESCRIPTION:In honor of Sexual Assault Awareness Month\, the Center for Prevention of Abuse (CFPA) is hosting the 2nd Annual I Run With Survivors 5K Run/1 Mile Walk on Saturday\, April 13th. All participants will receive a t-shirt and teal shoelaces (the color of sexual assault awareness) and are encouraged to wear both at the event. Race day activities include speakers\, photo opportunities at the "We Run Because " banner\, music from Mix 106.9\, and refreshments following the race. \n\nCFPA wants all survivors   ones who have come forward to disclose and ones who keep their abuse private   to know that the community supports them\, the Center for Prevention of Abuse supports them\, and that they are believed. Services for sexual assault survivors are free and confidential at CFPA and the crisis hotline is available 24 hours a day at 1-800-559-SAFE (7233).
X-ALT-DESC;FMTTYPE=text/html:<p style="box-sizing: border-box\; margin: 0px 0px 10px\; font-family: &quot\;Helvetica Neue&quot\;\, Helvetica\, Arial\, sans-serif\; font-size: 14px\; text-align: justify\;"><span style="box-sizing: border-box\; font-family: Tahoma\, Geneva\, sans-serif\;"><span style="box-sizing: border-box\; font-weight: 700\;">In honor of Sexual Assault Awareness Month\, the Center for Prevention of Abuse (CFPA) is hosting the 2nd Annual I Run With Survivors 5K Run/1 Mile Walk on Saturday\, April 13th. All participants will receive a t-shirt and teal shoelaces (the color of sexual assault awareness) and are encouraged to wear both at the event. Race day activities include speakers\, photo opportunities at the &ldquo\;We Run Because&hellip\;&rdquo\; banner\, music from Mix 106.9\, and refreshments following the race.&nbsp\;</span></span></p>\n\n<p style="box-sizing: border-box\; margin: 0px 0px 10px\; font-family: &quot\;Helvetica Neue&quot\;\, Helvetica\, Arial\, sans-serif\; font-size: 14px\; text-align: justify\;"><span style="box-sizing: border-box\; font-family: Tahoma\, Geneva\, sans-serif\;"><span style="box-sizing: border-box\; font-weight: 700\;">CFPA wants all survivors &ndash\; ones who have come forward to disclose and ones who keep their abuse private &ndash\; to know that the community supports them\, the Center for Prevention of Abuse supports them\, and that they are believed. Services for sexual assault survivors are free and confidential at CFPA and the crisis hotline is available 24 hours a day at 1-800-559-SAFE (7233).&nbsp\;</span></span></p>\n
LOCATION:
UID:e.526.5969
SEQUENCE:3
DTSTAMP:20260420T183030Z
URL:https://business.epcc.org/events/details/i-run-with-survivors-5969
END:VEVENT

END:VCALENDAR
