BEGIN:VCALENDAR
VERSION:2.0
PRODID:-//ChamberMaster//Event Calendar 2.0//EN
METHOD:PUBLISH
X-PUBLISHED-TTL:P3D
REFRESH-INTERVAL:P3D
CALSCALE:GREGORIAN
BEGIN:VEVENT
DTSTART:20180414T130000Z
DTEND:20180414T160000Z
X-MICROSOFT-CDO-ALLDAYEVENT:FALSE
SUMMARY:I Run with Survivors 5K run/1 mile walk
DESCRIPTION:In honor of Sexual Assault Awareness Month this April\, The Center for Prevention of Abuse is hosting it's 5K run/1 mile walk "I Run With Survivors." Lace up to show your support of survivors of sexual assault and join their mission of helping all women\, men\, and children live free from violence and abuse.
X-ALT-DESC;FMTTYPE=text/html:<span style="color: rgb(75\, 79\, 86)\; font-family: helvetica neue\,helvetica\,arial\,sans-serif\; font-size: 14px\;">In honor of Sexual Assault Awareness Month this April\, The Center for Prevention of Abuse is hosting it&#39\;s 5K run/1 mile walk &quot\;I Run With Survivors.&quot\; Lace up to show your support of survivors of sexual assault and join their mission of helping all women\, men\, and children live free from violence and abuse.</span>
LOCATION:The LeVee District 400 W Washington Street\, East Peoria\, IL 61611
UID:e.526.4453
SEQUENCE:3
DTSTAMP:20260421T182312Z
URL:https://business.epcc.org/events/details/i-run-with-survivors-5k-run-1-mile-walk-4453
END:VEVENT

END:VCALENDAR
