BEGIN:VCALENDAR
VERSION:2.0
PRODID:-//ChamberMaster//Event Calendar 2.0//EN
METHOD:PUBLISH
X-PUBLISHED-TTL:P3D
REFRESH-INTERVAL:P3D
CALSCALE:GREGORIAN
BEGIN:VEVENT
DTSTART:20190413T170000Z
DTEND:20190413T200000Z
X-MICROSOFT-CDO-ALLDAYEVENT:FALSE
SUMMARY:ICC 15th Annual International Fair
DESCRIPTION:Illinois Central College's international students will host its 15th Annual International Fair on Sat.\, April 13 from noon to 3 p.m. in the Student Center on the Peoria Campus\, located at 5407 N. University St.\, Peoria. The event offers an opportunity for the community to meet international students and celebrate their cultures through displays\, food\, music\, and dance. Additional entertainment will include a fashion show of traditional clothing modeled by ICC students and a martial arts demonstration.\n\n \n\nThe event is open to the public. Families are encouraged to attend to learn about and appreciate world cultures while having fun together.\n\n \n\nThere is an admission donation of $3. Children under age 10 are free. Food samples will be available at a modest cost. Proceeds will go toward an International F-1 student scholarship fund.\n\n \n\nThis event is brought to you by the Intercultural Diversity Committee and the Diversity Department\, in conjunction with the ICC Culinary Arts Program.\n\n \n\nFor more information\, contact Debbie Hedemann at dhedemann@icc.edu mailto:dhedemann@icc.edu  or (309) 694-8424.
X-ALT-DESC;FMTTYPE=text/html:&nbsp\;&nbsp\;&nbsp\;&nbsp\;&nbsp\;&nbsp\;&nbsp\;&nbsp\;&nbsp\;&nbsp\;&nbsp\;&nbsp\;&nbsp\; Illinois Central College&#39\;s international students will host its 15th Annual International Fair on Sat.\, April 13 from noon to 3 p.m. in the Student Center on the Peoria Campus\, located at 5407 N. University St.\, Peoria. The event offers an opportunity for the community to meet international students and celebrate their cultures through displays\, food\, music\, and dance. Additional entertainment will include a fashion show of traditional clothing modeled by ICC students and a martial arts demonstration.<br />\n&nbsp\;<br />\nThe event is open to the public. Families are encouraged to attend to learn about and appreciate world cultures while having fun together.<br />\n&nbsp\;<br />\nThere is an admission donation of $3. Children under age 10 are free. Food samples will be available at a modest cost. Proceeds will go toward an International F-1 student scholarship fund.<br />\n&nbsp\;<br />\nThis event is brought to you by the Intercultural Diversity Committee and the Diversity Department\, in conjunction with the ICC Culinary Arts Program.<br />\n&nbsp\;<br />\nFor more information\, contact Debbie Hedemann at <a href="mailto:dhedemann@icc.edu%3cmailto:dhedemann@icc.edu">dhedemann@icc.edu&lt\;mailto:dhedemann@icc.edu</a>&gt\; or (309) 694-8424.
LOCATION:
UID:e.526.6009
SEQUENCE:3
DTSTAMP:20260420T200343Z
URL:https://business.epcc.org/events/details/icc-15th-annual-international-fair-6009
END:VEVENT

END:VCALENDAR
