BEGIN:VCALENDAR
VERSION:2.0
PRODID:-//ChamberMaster//Event Calendar 2.0//EN
METHOD:PUBLISH
X-PUBLISHED-TTL:P3D
REFRESH-INTERVAL:P3D
CALSCALE:GREGORIAN
BEGIN:VEVENT
DTSTART:20180913T213000Z
DTEND:20180914T000000Z
X-MICROSOFT-CDO-ALLDAYEVENT:FALSE
SUMMARY:ICC Ag and Diesel Technology Career Expo
DESCRIPTION:Illinois Central College will feature agriculture and diesel technology careers on Thursday\, September 13\, 2018 from 4   7:30 pm at the East Peoria Campus\, Agricultural and Industrial Technologies (AIT) Building.\n\nClick here to confirm your RSVP\; deadline is Friday\, September 7\, 2018.
X-ALT-DESC;FMTTYPE=text/html:<p style="box-sizing: border-box\; word-wrap: break-word\; line-height: 2\; margin: 20px 0px\; color: rgb(37\, 37\, 37)\; font-family: &quot\;Open Sans&quot\;\, sans-serif\; font-size: 16px\;">Illinois Central College will feature agriculture and diesel technology careers on Thursday\, September 13\, 2018 from 4 &ndash\; 7:30 pm at the East Peoria Campus\, Agricultural and Industrial Technologies (AIT) Building.</p>\n\n<p style="box-sizing: border-box\; word-wrap: break-word\; line-height: 2\; margin: 20px 0px\; color: rgb(37\, 37\, 37)\; font-family: &quot\;Open Sans&quot\;\, sans-serif\; font-size: 16px\;"><span style="box-sizing: border-box\; word-wrap: break-word\; font-weight: 600\;"><a href="https://icc.edu/ag-diesel-rsvp/">Click here</a> to confirm your RSVP\; deadline is Friday\, September 7\, 2018.</span></p>\n
LOCATION:East Peoria Campus - Agricultural and Industrial Technologies (AIT) Building
UID:e.526.5613
SEQUENCE:3
DTSTAMP:20260421T052851Z
URL:https://business.epcc.org/events/details/icc-ag-and-diesel-technology-career-expo-5613
END:VEVENT

END:VCALENDAR
