BEGIN:VCALENDAR
VERSION:2.0
PRODID:-//ChamberMaster//Event Calendar 2.0//EN
METHOD:PUBLISH
X-PUBLISHED-TTL:P3D
REFRESH-INTERVAL:P3D
CALSCALE:GREGORIAN
BEGIN:VEVENT
DTSTART:20151024T003000Z
DTEND:20151024T003000Z
X-MICROSOFT-CDO-ALLDAYEVENT:FALSE
SUMMARY:ICC Guest Artist Series presents: An Evening with Patsy Cline
DESCRIPTION:
X-ALT-DESC;FMTTYPE=text/html:
LOCATION:ICC Performing Arts Center
UID:e.526.1762
SEQUENCE:3
DTSTAMP:20260424T215604Z
URL:https://business.epcc.org/events/details/icc-guest-artist-series-presents-an-evening-with-patsy-cline-10-23-2015-1762
END:VEVENT

END:VCALENDAR
