BEGIN:VCALENDAR
VERSION:2.0
PRODID:-//ChamberMaster//Event Calendar 2.0//EN
METHOD:PUBLISH
X-PUBLISHED-TTL:P3D
REFRESH-INTERVAL:P3D
CALSCALE:GREGORIAN
BEGIN:VEVENT
DTSTART:20151129T013000Z
DTEND:20151129T013000Z
X-MICROSOFT-CDO-ALLDAYEVENT:FALSE
SUMMARY:ICC Guest Artist Series presents: The Second City's Holidazed and Confused
DESCRIPTION:
X-ALT-DESC;FMTTYPE=text/html:
LOCATION:ICC Performing Arts Center
UID:e.526.1777
SEQUENCE:3
DTSTAMP:20260424T205232Z
URL:https://business.epcc.org/events/details/icc-guest-artist-series-presents-the-second-city-s-holidazed-and-confused-11-28-2015-1777
END:VEVENT

END:VCALENDAR
