BEGIN:VCALENDAR
VERSION:2.0
PRODID:-//ChamberMaster//Event Calendar 2.0//EN
METHOD:PUBLISH
X-PUBLISHED-TTL:P3D
REFRESH-INTERVAL:P3D
CALSCALE:GREGORIAN
BEGIN:VEVENT
DTSTART:20180824T163000Z
DTEND:20180824T183000Z
X-MICROSOFT-CDO-ALLDAYEVENT:FALSE
SUMMARY:ICC Industrial Maintenance Apprenticeship Program Signing Day
DESCRIPTION:Illinois Central College\, along with local companies sponsoring apprentices\, will host a signing event for the 12 students in the first cohort of the Industrial Maintenance Apprenticeship Program. Students will begin the earn-and-learn program August 20\, 2018.\n\n               ICC has partnered with the following companies providing apprenticeships: AECOM\, ALCAST\, Caterpillar Inc.\, and Morton Buildings.\n\n               The partnering companies will provide the work experience to ensure professional skills upon completion\, and ICC will provide the in-class training. The apprentices earn as they learn - receiving short\, four-week blocks of coursework\, followed by four weeks of on-the-job training to refine the skills they have acquired. Additionally\, they will earn a guaranteed minimum hourly payment of $13\, and the sponsoring company pays for full tuition\, fees and books. All candidates were accepted into ICC and are selected to work with the companies through a pre-screening and interview process. At the successful completion of their program\, students will receive an Associate in Applied Science degree in Mechatronics Technology.
X-ALT-DESC;FMTTYPE=text/html:&nbsp\;&nbsp\;&nbsp\;&nbsp\;&nbsp\;&nbsp\;&nbsp\;&nbsp\;&nbsp\;&nbsp\;&nbsp\;&nbsp\;&nbsp\;&nbsp\; Illinois Central College\, along with local companies sponsoring apprentices\, will host a signing event for the 12 students in the first cohort of the Industrial Maintenance Apprenticeship Program. Students will begin the earn-and-learn program August 20\, 2018.<br />\n&nbsp\;&nbsp\;&nbsp\;&nbsp\;&nbsp\;&nbsp\;&nbsp\;&nbsp\;&nbsp\;&nbsp\;&nbsp\;&nbsp\;&nbsp\;&nbsp\; ICC has partnered with the following companies providing apprenticeships: AECOM\, ALCAST\, Caterpillar Inc.\, and Morton Buildings.<br />\n&nbsp\;&nbsp\;&nbsp\;&nbsp\;&nbsp\;&nbsp\;&nbsp\;&nbsp\;&nbsp\;&nbsp\;&nbsp\;&nbsp\;&nbsp\;&nbsp\; The partnering companies will provide the work experience to ensure professional skills upon completion\, and ICC will provide the in-class training. The apprentices earn as they learn - receiving short\, four-week blocks of coursework\, followed by four weeks of on-the-job training to refine the skills they have acquired. Additionally\, they will earn a guaranteed minimum hourly payment of $13\, and the sponsoring company pays for full tuition\, fees and books. All candidates were accepted into ICC and are selected to work with the companies through a pre-screening and interview process. At the successful completion of their program\, students will receive an Associate in Applied Science degree in Mechatronics Technology.
LOCATION:
UID:e.526.5606
SEQUENCE:3
DTSTAMP:20260421T065514Z
URL:https://business.epcc.org/events/details/icc-industrial-maintenance-apprenticeship-program-signing-day-5606
END:VEVENT

END:VCALENDAR
