BEGIN:VCALENDAR
VERSION:2.0
PRODID:-//ChamberMaster//Event Calendar 2.0//EN
METHOD:PUBLISH
X-PUBLISHED-TTL:P3D
REFRESH-INTERVAL:P3D
CALSCALE:GREGORIAN
BEGIN:VEVENT
DTSTART:20170310T013000Z
DTEND:20170310T013000Z
X-MICROSOFT-CDO-ALLDAYEVENT:FALSE
SUMMARY:ICC Music Program presents: A Broadway Revue
DESCRIPTION:
X-ALT-DESC;FMTTYPE=text/html:
LOCATION:ICC Performing Arts Center
UID:e.526.3188
SEQUENCE:3
DTSTAMP:20260422T112919Z
URL:https://business.epcc.org/events/details/icc-music-program-presents-a-broadway-revue-03-09-2017-3188
END:VEVENT

END:VCALENDAR
