BEGIN:VCALENDAR
VERSION:2.0
PRODID:-//ChamberMaster//Event Calendar 2.0//EN
METHOD:PUBLISH
X-PUBLISHED-TTL:P3D
REFRESH-INTERVAL:P3D
CALSCALE:GREGORIAN
BEGIN:VEVENT
DTSTART:20160318T003000Z
DTEND:20160318T003000Z
X-MICROSOFT-CDO-ALLDAYEVENT:FALSE
SUMMARY:ICC Music Program presents Broadway Revue
DESCRIPTION:
X-ALT-DESC;FMTTYPE=text/html:
LOCATION:ICC Performing Arts Center
UID:e.526.2768
SEQUENCE:3
DTSTAMP:20260424T152450Z
URL:https://business.epcc.org/events/details/icc-music-program-presents-broadway-revue-03-17-2016-2768
END:VEVENT

END:VCALENDAR
