BEGIN:VCALENDAR
VERSION:2.0
PRODID:-//ChamberMaster//Event Calendar 2.0//EN
METHOD:PUBLISH
X-PUBLISHED-TTL:P3D
REFRESH-INTERVAL:P3D
CALSCALE:GREGORIAN
BEGIN:VEVENT
DTSTART:20151121T013000Z
DTEND:20151121T013000Z
X-MICROSOFT-CDO-ALLDAYEVENT:FALSE
SUMMARY:ICC Music Program presents the ICC Chamber Singers and ICC Concert Choir
DESCRIPTION:
X-ALT-DESC;FMTTYPE=text/html:
LOCATION:ICC Performing Arts Center
UID:e.526.1774
SEQUENCE:3
DTSTAMP:20260424T215725Z
URL:https://business.epcc.org/events/details/icc-music-program-presents-the-icc-chamber-singers-and-icc-concert-choir-11-20-2015-1774
END:VEVENT

END:VCALENDAR
