BEGIN:VCALENDAR
VERSION:2.0
PRODID:-//ChamberMaster//Event Calendar 2.0//EN
METHOD:PUBLISH
X-PUBLISHED-TTL:P3D
REFRESH-INTERVAL:P3D
CALSCALE:GREGORIAN
BEGIN:VEVENT
DTSTART:20151203T013000Z
DTEND:20151203T013000Z
X-MICROSOFT-CDO-ALLDAYEVENT:FALSE
SUMMARY:ICC Music Program presents the ICC Concert Band
DESCRIPTION:
X-ALT-DESC;FMTTYPE=text/html:
LOCATION:ICC Performing Arts Center
UID:e.526.2757
SEQUENCE:3
DTSTAMP:20260424T192216Z
URL:https://business.epcc.org/events/details/icc-music-program-presents-the-icc-concert-band-12-02-2015-2757
END:VEVENT

END:VCALENDAR
