BEGIN:VCALENDAR
VERSION:2.0
PRODID:-//ChamberMaster//Event Calendar 2.0//EN
METHOD:PUBLISH
X-PUBLISHED-TTL:P3D
REFRESH-INTERVAL:P3D
CALSCALE:GREGORIAN
BEGIN:VEVENT
DTSTART:20160429T003000Z
DTEND:20160429T003000Z
X-MICROSOFT-CDO-ALLDAYEVENT:FALSE
SUMMARY:ICC music program presents Vocal Jazz Ensemble
DESCRIPTION:
X-ALT-DESC;FMTTYPE=text/html:
LOCATION:Lecture Recital Hall Room 127F
UID:e.526.2856
SEQUENCE:3
DTSTAMP:20260424T135538Z
URL:https://business.epcc.org/events/details/icc-music-program-presents-vocal-jazz-ensemble-04-28-2016-2856
END:VEVENT

END:VCALENDAR
