BEGIN:VCALENDAR
VERSION:2.0
PRODID:-//ChamberMaster//Event Calendar 2.0//EN
METHOD:PUBLISH
X-PUBLISHED-TTL:P3D
REFRESH-INTERVAL:P3D
CALSCALE:GREGORIAN
BEGIN:VEVENT
DTSTART:20160426T220000Z
DTEND:20160427T000000Z
X-MICROSOFT-CDO-ALLDAYEVENT:FALSE
SUMMARY:ICC Pekin Campus Open House
DESCRIPTION:High school juniors and seniors and their parents\, as well as community members\, are invited to "Discover ICC Pekin" on Teusday\, April 26 from 5:00 - 7:00 PM at the Illinois Central College Pekin Campus. ICC representatives will be on hand to assist with questions related to admissions\, financial aid\, testings and advising\, and will offer brief presentations at 5:15 and 6:00 PM.
X-ALT-DESC;FMTTYPE=text/html:High school juniors and seniors and their parents\, as well as community members\, are invited to &quot\;Discover ICC Pekin&quot\; on Teusday\, April 26 from 5:00 - 7:00 PM at the Illinois Central College Pekin Campus. ICC representatives will be on hand to assist with questions related to admissions\, financial aid\, testings and advising\, and will offer brief presentations at 5:15 and 6:00 PM.
LOCATION:Illinois Central College Pekin Campus Riverway Business Park 225 Hanna Drive Pekin\, IL 61554
UID:e.526.3059
SEQUENCE:3
DTSTAMP:20260424T135537Z
URL:https://business.epcc.org/events/details/icc-pekin-campus-open-house-04-26-2016-3059
END:VEVENT

END:VCALENDAR
