BEGIN:VCALENDAR
VERSION:2.0
PRODID:-//ChamberMaster//Event Calendar 2.0//EN
METHOD:PUBLISH
X-PUBLISHED-TTL:P3D
REFRESH-INTERVAL:P3D
CALSCALE:GREGORIAN
BEGIN:VEVENT
DTSTART:20190204T203000Z
DTEND:20190204T213000Z
X-MICROSOFT-CDO-ALLDAYEVENT:FALSE
SUMMARY:ICC"s “Between the Lines” - The Many Faces of Frankenstein
DESCRIPTION:On the 200th Anniversary of Mary Shelley's Frankenstein\, we will look at the various versions of Frankenstein in movies. From comedy to horror to action\, this story has transcended across genres in a way few other stories have. In their adaptations of the original book\, these films make the story come alive in new ways. But\, when is an adaptation no longer an adaptation? These movies increasingly often diverge from the original source. Come see how these movies relate to each other and where they do (and do not) relate to the book. This discussion takes part in ICC's year-long celebration of Frankenstein through the One Book\, One College program.\n\n              "Between the Lines" is a lecture series presented by the faculty members of the English\, Humanities and Language Studies Department at ICC. The goal of the series is to offer literary presentations that will interest students and people in the community\, as well as promote reading literacy and scholarly study.\n\n               The programs are free and open to the public.\n\n \n\n               For more information\, please contact Jim Sullivan at jsullivan@icc.edu or betweenthelines@icc.edu
X-ALT-DESC;FMTTYPE=text/html:<span style="font-family:georgia\,serif\;"><span style="font-size:12.0pt\;">On the 200<sup>th</sup> Anniversary of Mary Shelley&rsquo\;s <em>Frankenstein</em>\, we will look at the various versions of <em>Frankenstein</em> in movies. From comedy to horror to action\, this story has transcended across genres in a way few other stories have. In their adaptations of the original book\, these films make the story come alive in new ways. But\, when is an adaptation no longer an adaptation? These movies increasingly often diverge from the original source. Come see how these movies relate to each other and where they do (and do not) relate to the book. This discussion takes part in ICC&rsquo\;s year-long celebration of <em>Frankenstein</em> through the One Book\, One College program.</span></span><br />\n<span style="font-family:georgia\,serif\;"><span style="font-size:12.0pt\;">&nbsp\;&nbsp\;&nbsp\;&nbsp\;&nbsp\;&nbsp\;&nbsp\;&nbsp\;&nbsp\;&nbsp\;&nbsp\;&nbsp\;&nbsp\; &ldquo\;Between the Lines&rdquo\; is a lecture series presented by the faculty members of the English\, Humanities and Language Studies Department at ICC.&nbsp\;The goal of the series is to offer literary presentations that will interest students and people in the community\, as well as promote reading literacy and scholarly study.</span></span><br />\n&nbsp\;&nbsp\;&nbsp\;&nbsp\;&nbsp\;&nbsp\;&nbsp\;&nbsp\;&nbsp\;&nbsp\;&nbsp\;&nbsp\;&nbsp\;&nbsp\; The programs are free and open to the public.<br />\n&nbsp\;<br />\n<span style="font-family:calibri\,sans-serif\;"><span style="font-size:11.0pt\;">&nbsp\;&nbsp\;&nbsp\;&nbsp\;&nbsp\;&nbsp\;&nbsp\;&nbsp\;&nbsp\;&nbsp\;&nbsp\;&nbsp\;&nbsp\;&nbsp\; For more information\, please contact Jim Sullivan at <a href="mailto:jsullivan@icc.edu"><span style="color:#0563C1\;">jsullivan@icc.edu</span></a> or <a href="mailto:betweenthelines@icc.edu"><span style="color:#0563C1\;">betweenthelines@icc.edu</span></a></span></span>
LOCATION:Room 212C/D on the East Peoria Campus
UID:e.526.5933
SEQUENCE:3
DTSTAMP:20260420T214244Z
URL:https://business.epcc.org/events/details/icc-s-between-the-lines-the-many-faces-of-frankenstein-5933
END:VEVENT

END:VCALENDAR
