BEGIN:VCALENDAR
VERSION:2.0
PRODID:-//ChamberMaster//Event Calendar 2.0//EN
METHOD:PUBLISH
X-PUBLISHED-TTL:P3D
REFRESH-INTERVAL:P3D
CALSCALE:GREGORIAN
BEGIN:VEVENT
DTSTART:20161112T003000Z
DTEND:20161112T003000Z
X-MICROSOFT-CDO-ALLDAYEVENT:FALSE
SUMMARY:ICC Theatre Program presents: Murder at Cafe Noir
DESCRIPTION:November 11-20 Tuesday-Thursday 7:30 pm Friday-Saturday 6:30 Sunday 2:30 pm No performance Monday\, November 14 Performing Arts Center Studio Theatre Tickets: $20 all ages\, includes a meal before the show For menu options visit ArtsAtICC.com/noir
X-ALT-DESC;FMTTYPE=text/html:November 11-20 Tuesday-Thursday 7:30 pm Friday-Saturday 6:30 Sunday 2:30 pm No performance Monday\, November 14 Performing Arts Center Studio Theatre Tickets: $20 all ages\, includes a meal before the show For menu options visit ArtsAtICC.com/noir
LOCATION:
UID:e.526.3208
SEQUENCE:3
DTSTAMP:20260422T183425Z
URL:https://business.epcc.org/events/details/icc-theatre-program-presents-murder-at-cafe-noir-11-11-2016-3208
END:VEVENT

END:VCALENDAR
