BEGIN:VCALENDAR
VERSION:2.0
PRODID:-//ChamberMaster//Event Calendar 2.0//EN
METHOD:PUBLISH
X-PUBLISHED-TTL:P3D
REFRESH-INTERVAL:P3D
CALSCALE:GREGORIAN
BEGIN:VEVENT
DTSTART:20161116T013000Z
DTEND:20161116T013000Z
X-MICROSOFT-CDO-ALLDAYEVENT:FALSE
SUMMARY:ICC Theatre Program presents: Murder at Cafe Noir
DESCRIPTION:November 11-20 Tuesday-Thursday 7:30 pm Friday-Saturday 6:30 Sunday 2:30 pm No performance Monday\, November 14 Performing Arts Center Studio Theatre Tickets: $7 general public\, $5 students/seniors
X-ALT-DESC;FMTTYPE=text/html:November 11-20 Tuesday-Thursday 7:30 pm Friday-Saturday 6:30 Sunday 2:30 pm No performance Monday\, November 14 Performing Arts Center Studio Theatre Tickets: $7 general public\, $5 students/seniors
LOCATION:
UID:e.526.3211
SEQUENCE:3
DTSTAMP:20260422T170410Z
URL:https://business.epcc.org/events/details/icc-theatre-program-presents-murder-at-cafe-noir-11-15-2016-3211
END:VEVENT

END:VCALENDAR
