BEGIN:VCALENDAR
VERSION:2.0
PRODID:-//ChamberMaster//Event Calendar 2.0//EN
METHOD:PUBLISH
X-PUBLISHED-TTL:P3D
REFRESH-INTERVAL:P3D
CALSCALE:GREGORIAN
BEGIN:VEVENT
DTSTART:20150927T003000Z
DTEND:20150927T003000Z
X-MICROSOFT-CDO-ALLDAYEVENT:FALSE
SUMMARY:ICC Theatre Program presents Neil Simon's The Odd Couple
DESCRIPTION:
X-ALT-DESC;FMTTYPE=text/html:
LOCATION:ICC Performing Arts Center
UID:e.526.1754
SEQUENCE:3
DTSTAMP:20260424T232301Z
URL:https://business.epcc.org/events/details/icc-theatre-program-presents-neil-simon-s-the-odd-couple-09-26-2015-1754
END:VEVENT

END:VCALENDAR
