BEGIN:VCALENDAR
VERSION:2.0
PRODID:-//ChamberMaster//Event Calendar 2.0//EN
METHOD:PUBLISH
X-PUBLISHED-TTL:P3D
REFRESH-INTERVAL:P3D
CALSCALE:GREGORIAN
BEGIN:VEVENT
DTSTART:20160420T003000Z
DTEND:20160420T003000Z
X-MICROSOFT-CDO-ALLDAYEVENT:FALSE
SUMMARY:ICC Theatre Program presents Standing on Ceremony
DESCRIPTION:
X-ALT-DESC;FMTTYPE=text/html:
LOCATION:ICC Performing Arts Center studio theatre
UID:e.526.2774
SEQUENCE:3
DTSTAMP:20260424T135508Z
URL:https://business.epcc.org/events/details/icc-theatre-program-presents-standing-on-ceremony-04-19-2016-2774
END:VEVENT

END:VCALENDAR
