BEGIN:VCALENDAR
VERSION:2.0
PRODID:-//ChamberMaster//Event Calendar 2.0//EN
METHOD:PUBLISH
X-PUBLISHED-TTL:P3D
REFRESH-INTERVAL:P3D
CALSCALE:GREGORIAN
BEGIN:VEVENT
DTSTART:20170423T193000Z
DTEND:20170423T193000Z
X-MICROSOFT-CDO-ALLDAYEVENT:FALSE
SUMMARY:ICC Theatre Program presents: Suburbia
DESCRIPTION:
X-ALT-DESC;FMTTYPE=text/html:
LOCATION:ICC Performing Arts Center Studio Theatre
UID:e.526.3174
SEQUENCE:3
DTSTAMP:20260422T100412Z
URL:https://business.epcc.org/events/details/icc-theatre-program-presents-suburbia-04-23-2017-3174
END:VEVENT

END:VCALENDAR
