BEGIN:VCALENDAR
VERSION:2.0
PRODID:-//ChamberMaster//Event Calendar 2.0//EN
METHOD:PUBLISH
X-PUBLISHED-TTL:P3D
REFRESH-INTERVAL:P3D
CALSCALE:GREGORIAN
BEGIN:VEVENT
DTSTART:20170305T013000Z
DTEND:20170305T013000Z
X-MICROSOFT-CDO-ALLDAYEVENT:FALSE
SUMMARY:ICC Theatre Program presents: The Bone House
DESCRIPTION:
X-ALT-DESC;FMTTYPE=text/html:
LOCATION:ICC Performing Arts Center
UID:e.526.3165
SEQUENCE:3
DTSTAMP:20260422T112742Z
URL:https://business.epcc.org/events/details/icc-theatre-program-presents-the-bone-house-03-04-2017-3165
END:VEVENT

END:VCALENDAR
