BEGIN:VCALENDAR
VERSION:2.0
PRODID:-//ChamberMaster//Event Calendar 2.0//EN
METHOD:PUBLISH
X-PUBLISHED-TTL:P3D
REFRESH-INTERVAL:P3D
CALSCALE:GREGORIAN
BEGIN:VEVENT
DTSTART:20151122T203000Z
DTEND:20151122T203000Z
X-MICROSOFT-CDO-ALLDAYEVENT:FALSE
SUMMARY:ICC Theatre Program presents The Drunken City
DESCRIPTION:Rated R for mature themes and language.
X-ALT-DESC;FMTTYPE=text/html:Rated R for mature themes and language.
LOCATION:ICC Performing Arts Center studio theatre
UID:e.526.1776
SEQUENCE:3
DTSTAMP:20260424T204345Z
URL:https://business.epcc.org/events/details/icc-theatre-program-presents-the-drunken-city-11-22-2015-1776
END:VEVENT

END:VCALENDAR
