BEGIN:VCALENDAR
VERSION:2.0
PRODID:-//ChamberMaster//Event Calendar 2.0//EN
METHOD:PUBLISH
X-PUBLISHED-TTL:P3D
REFRESH-INTERVAL:P3D
CALSCALE:GREGORIAN
BEGIN:VEVENT
DTSTART:20160505T003000Z
DTEND:20160505T003000Z
X-MICROSOFT-CDO-ALLDAYEVENT:FALSE
SUMMARY:ICC Theatre program presents theatre directing class one-act plays
DESCRIPTION:
X-ALT-DESC;FMTTYPE=text/html:
LOCATION:ICC Lecture/Recital Hall Room 127F
UID:e.526.3015
SEQUENCE:3
DTSTAMP:20260424T123034Z
URL:https://business.epcc.org/events/details/icc-theatre-program-presents-theatre-directing-class-one-act-plays-05-04-2016-3015
END:VEVENT

END:VCALENDAR
