BEGIN:VCALENDAR
VERSION:2.0
PRODID:-//ChamberMaster//Event Calendar 2.0//EN
METHOD:PUBLISH
X-PUBLISHED-TTL:P3D
REFRESH-INTERVAL:P3D
CALSCALE:GREGORIAN
BEGIN:VEVENT
DTSTART:20160910T180000Z
DTEND:20160910T200000Z
X-MICROSOFT-CDO-ALLDAYEVENT:FALSE
SUMMARY:Ice Cream Social
DESCRIPTION:Ice Cream Social for the East Peoria Historical Society.
X-ALT-DESC;FMTTYPE=text/html:Ice Cream Social for the East Peoria Historical Society.
LOCATION:Doering Home- 326 Pekin Avenue\, East Peoria
UID:e.526.3248
SEQUENCE:3
DTSTAMP:20260422T200257Z
URL:https://business.epcc.org/events/details/ice-cream-social-3248
END:VEVENT

END:VCALENDAR
