BEGIN:VCALENDAR
VERSION:2.0
PRODID:-//ChamberMaster//Event Calendar 2.0//EN
METHOD:PUBLISH
X-PUBLISHED-TTL:P3D
REFRESH-INTERVAL:P3D
CALSCALE:GREGORIAN
BEGIN:VEVENT
DTSTART:20191028T140000Z
DTEND:20191028T160000Z
X-MICROSOFT-CDO-ALLDAYEVENT:FALSE
SUMMARY:Ignite the Guest Experience
DESCRIPTION:Heart of Illinois Hospitality Association in partnership with Enjoy Peoria presents: Ignite the Guest Experience\n\n\n\nJoin communication and leadership development trainer Dean Heffta.\n\n\n\nEach attendee will learn insights to improve their performance and grow their impact through the five principles of D.R.I.V.E.\n\n\n\nLearn to drop the drama\, connect with the why\, improved communication and more!\n\n\n\nRegistration is required by October 22\, 2019. Call 309-693.9667 ext 10 or email judym@rbprol.com
X-ALT-DESC;FMTTYPE=text/html:<p>Heart of Illinois Hospitality Association in partnership with Enjoy Peoria presents: Ignite the Guest Experience<br />\n<br />\nJoin communication and leadership development trainer Dean Heffta.<br />\n<br />\nEach attendee will learn insights to improve their performance and grow their impact through the five principles of D.R.I.V.E.<br />\n<br />\nLearn to drop the drama\, connect with the why\, improved communication and more!<br />\n<br />\nRegistration is required by October 22\,&nbsp\;2019. Call 309-693.9667 ext 10 or email judym@rbprol.com</p>\n
LOCATION:Stoney Creek Hotel and Conference Center 101 Mariners Way East Peoria\, IL 61611
UID:e.526.6214
SEQUENCE:3
DTSTAMP:20260425T165803Z
URL:https://business.epcc.org/events/details/ignite-the-guest-experience-6214
END:VEVENT

END:VCALENDAR
