BEGIN:VCALENDAR
VERSION:2.0
PRODID:-//ChamberMaster//Event Calendar 2.0//EN
METHOD:PUBLISH
X-PUBLISHED-TTL:P3D
REFRESH-INTERVAL:P3D
CALSCALE:GREGORIAN
BEGIN:VEVENT
DTSTART;VALUE=DATE:20180824
DTEND;VALUE=DATE:20180825
TRANSP:TRANSPARENT
X-MICROSOFT-CDO-ALLDAYEVENT:TRUE
SUMMARY:IL FMMA Conference
DESCRIPTION:Visit ilfmma.org for details about this medical conference!
X-ALT-DESC;FMTTYPE=text/html:Visit ilfmma.org for details about this medical conference!
LOCATION:Peoria Country Club
UID:e.526.5584
SEQUENCE:3
DTSTAMP:20260421T065426Z
URL:https://business.epcc.org/events/details/il-fmma-conference-5584
END:VEVENT

END:VCALENDAR
