BEGIN:VCALENDAR
VERSION:2.0
PRODID:-//ChamberMaster//Event Calendar 2.0//EN
METHOD:PUBLISH
X-PUBLISHED-TTL:P3D
REFRESH-INTERVAL:P3D
CALSCALE:GREGORIAN
BEGIN:VEVENT
DTSTART:20151106T160000Z
DTEND:20151106T170000Z
X-MICROSOFT-CDO-ALLDAYEVENT:FALSE
SUMMARY:Illinois Job Link Informational Seminar for Veterans
DESCRIPTION:Learn about the services offered by the Illinois Department of Employment Security. Find out how to use their job search website\, illinoisjoblink.com.
X-ALT-DESC;FMTTYPE=text/html:Learn about the services offered by the Illinois Department of Employment Security. Find out how to use their job search website\, illinoisjoblink.com.
LOCATION:Goodwill Commons\, 2319 E. War Memorial Dr.\, Peoria\, IL 61614
UID:e.526.2836
SEQUENCE:3
DTSTAMP:20260424T204935Z
URL:https://business.epcc.org/events/details/illinois-job-link-informational-seminar-for-veterans-11-06-2015-2836
END:VEVENT

END:VCALENDAR
