BEGIN:VCALENDAR
VERSION:2.0
PRODID:-//ChamberMaster//Event Calendar 2.0//EN
METHOD:PUBLISH
X-PUBLISHED-TTL:P3D
REFRESH-INTERVAL:P3D
CALSCALE:GREGORIAN
BEGIN:VEVENT
DTSTART:20191116T220000Z
DTEND:20191117T010000Z
X-MICROSOFT-CDO-ALLDAYEVENT:FALSE
SUMMARY:Immanuel Evangelical Lutheran Church Festival of Lights Open House
DESCRIPTION:Immanuel Evangelical Lutheran Church will have FREE hot beverages\, bleacher seating\, bake sale\, grab-n-go Chili & warm sandwiches available for purchase during the Festival of Lights Parade. Get your picture taken with Santa from 4:00 pm to 6:00 pm.
X-ALT-DESC;FMTTYPE=text/html:Immanuel Evangelical Lutheran Church will have FREE hot beverages\, bleacher seating\, bake sale\, grab-n-go Chili &amp\; warm sandwiches available for purchase during the Festival of Lights Parade. Get your picture taken with Santa from 4:00 pm to 6:00 pm.
LOCATION:526 E. Washington St. East Peoria\, IL
UID:e.526.6230
SEQUENCE:3
DTSTAMP:20260420T130611Z
URL:https://business.epcc.org/events/details/immanuel-evangelical-lutheran-church-festival-of-lights-open-house-6230
END:VEVENT

END:VCALENDAR
