BEGIN:VCALENDAR
VERSION:2.0
PRODID:-//ChamberMaster//Event Calendar 2.0//EN
METHOD:PUBLISH
X-PUBLISHED-TTL:P3D
REFRESH-INTERVAL:P3D
CALSCALE:GREGORIAN
BEGIN:VEVENT
DTSTART:20181017T150000Z
DTEND:20181017T170000Z
X-MICROSOFT-CDO-ALLDAYEVENT:FALSE
SUMMARY:Important Tax Changes for Small Businesses in 2018
DESCRIPTION:SCORE Peoria is offering this FREE workshop \n\n\n\nImportant Tax Changes for Small Businesses in 2018\nWith major tax changes passed by Congress in 2017\, many taxpayers are wondering what it means for 2018. As a business owner\, you must not only prepare your business - and personal - tax returns\, but you must also take care of year-end payroll tax reports for employees and non-employees (freelancers and contract workers).\n\n \n\nTake this opportunity to get an overview of the changes and their impact from David Mills\, CPA\, LLC.\n\n  \n\nThis workshop is FREE\, but registration is required.\n\nCall Peoria SCORE at 309-676-0755 or register online by clicking here.
X-ALT-DESC;FMTTYPE=text/html:<div style="text-align:center"><span style="font-size:14px"><span style="font-family:arial\,helvetica\,sans-serif">SCORE Peoria is offering this FREE workshop&nbsp\;<br />\n<br />\n<u><strong>Important Tax Changes for Small Businesses in 2018</strong></u></span></span></div>\n<span style="font-size:12px"><span style="font-family:arial\,helvetica\,sans-serif">With major tax changes passed by Congress in 2017\, many taxpayers are wondering what it means for 2018. As a business owner\, you must not only prepare your business - and personal - tax returns\, but you must also take care of year-end payroll tax reports for employees and non-employees (freelancers and contract workers).<br />\n&nbsp\;<br />\nTake this opportunity to get an overview of the changes and their impact from David Mills\, CPA\, LLC.<br />\n&nbsp\; </span></span>\n\n<div style="text-align:center"><span style="font-size:12px"><span style="font-family:arial\,helvetica\,sans-serif">This workshop is FREE\, but registration is required.</span></span></div>\n\n<div style="text-align:center"><span style="font-size:12px"><span style="font-family:arial\,helvetica\,sans-serif">Call Peoria SCORE at 309-676-0755 or register online by <a href="http://conta.cc/2syfLFT" target="_blank">clicking here</a>.</span></span></div>\n
LOCATION:Peoria Area Chamber of Commerce Conference Room 403 N. E. Jefferson St. Peoria\, IL 61603
UID:e.526.5638
SEQUENCE:3
DTSTAMP:20260421T041638Z
URL:https://business.epcc.org/events/details/important-tax-changes-for-small-businesses-in-2018-5638
END:VEVENT

END:VCALENDAR
