BEGIN:VCALENDAR
VERSION:2.0
PRODID:-//ChamberMaster//Event Calendar 2.0//EN
METHOD:PUBLISH
X-PUBLISHED-TTL:P3D
REFRESH-INTERVAL:P3D
CALSCALE:GREGORIAN
BEGIN:VEVENT
DTSTART:20150614T003000Z
DTEND:20150614T045500Z
X-MICROSOFT-CDO-ALLDAYEVENT:FALSE
SUMMARY:In Residence at ICC: Heritage Ensemble
DESCRIPTION:
X-ALT-DESC;FMTTYPE=text/html:
LOCATION:Performing Arts Center 1 College Drive East Peoria\, IL 61635
UID:e.526.1610
SEQUENCE:3
DTSTAMP:20260425T031544Z
URL:https://business.epcc.org/events/details/in-residence-at-icc-heritage-ensemble-06-13-2015-1610
END:VEVENT

END:VCALENDAR
