BEGIN:VCALENDAR
VERSION:2.0
PRODID:-//ChamberMaster//Event Calendar 2.0//EN
METHOD:PUBLISH
X-PUBLISHED-TTL:P3D
REFRESH-INTERVAL:P3D
CALSCALE:GREGORIAN
BEGIN:VEVENT
DTSTART:20161030T193000Z
DTEND:20161030T193000Z
X-MICROSOFT-CDO-ALLDAYEVENT:FALSE
SUMMARY:In-Residence at ICC presents: Heart of Illinois Chorus
DESCRIPTION:
X-ALT-DESC;FMTTYPE=text/html:
LOCATION:ICC Performing Arts Center
UID:e.526.3178
SEQUENCE:3
DTSTAMP:20260422T183859Z
URL:https://business.epcc.org/events/details/in-residence-at-icc-presents-heart-of-illinois-chorus-10-30-2016-3178
END:VEVENT

END:VCALENDAR
