BEGIN:VCALENDAR
VERSION:2.0
PRODID:-//ChamberMaster//Event Calendar 2.0//EN
METHOD:PUBLISH
X-PUBLISHED-TTL:P3D
REFRESH-INTERVAL:P3D
CALSCALE:GREGORIAN
BEGIN:VEVENT
DTSTART:20170108T013000Z
DTEND:20170108T013000Z
X-MICROSOFT-CDO-ALLDAYEVENT:FALSE
SUMMARY:In-Residence at ICC presents: Heritage Ensemble
DESCRIPTION:
X-ALT-DESC;FMTTYPE=text/html:
LOCATION:ICC Performing Arts Center
UID:e.526.3186
SEQUENCE:3
DTSTAMP:20260422T153830Z
URL:https://business.epcc.org/events/details/in-residence-at-icc-presents-heritage-ensemble-01-07-2017-3186
END:VEVENT

END:VCALENDAR
