BEGIN:VCALENDAR
VERSION:2.0
PRODID:-//ChamberMaster//Event Calendar 2.0//EN
METHOD:PUBLISH
X-PUBLISHED-TTL:P3D
REFRESH-INTERVAL:P3D
CALSCALE:GREGORIAN
BEGIN:VEVENT
DTSTART:20160501T193000Z
DTEND:20160501T193000Z
X-MICROSOFT-CDO-ALLDAYEVENT:FALSE
SUMMARY:In-Residence at ICC presents Philharmonic Chorale
DESCRIPTION:
X-ALT-DESC;FMTTYPE=text/html:
LOCATION:ICC Performing Arts Center studio theatre
UID:e.526.2780
SEQUENCE:3
DTSTAMP:20260424T123330Z
URL:https://business.epcc.org/events/details/in-residence-at-icc-presents-philharmonic-chorale-05-01-2016-2780
END:VEVENT

END:VCALENDAR
