BEGIN:VCALENDAR
VERSION:2.0
PRODID:-//ChamberMaster//Event Calendar 2.0//EN
METHOD:PUBLISH
X-PUBLISHED-TTL:P3D
REFRESH-INTERVAL:P3D
CALSCALE:GREGORIAN
BEGIN:VEVENT
DTSTART:20151018T190000Z
DTEND:20151018T190000Z
X-MICROSOFT-CDO-ALLDAYEVENT:FALSE
SUMMARY:In-Residence at ICC presents: Pride of Peoria Barbershop Chorus
DESCRIPTION:
X-ALT-DESC;FMTTYPE=text/html:
LOCATION:Northminister Presbyterian Church\, Peoria
UID:e.526.1760
SEQUENCE:3
DTSTAMP:20260424T215823Z
URL:https://business.epcc.org/events/details/in-residence-at-icc-presents-pride-of-peoria-barbershop-chorus-10-18-2015-1760
END:VEVENT

END:VCALENDAR
