BEGIN:VCALENDAR
VERSION:2.0
PRODID:-//ChamberMaster//Event Calendar 2.0//EN
METHOD:PUBLISH
X-PUBLISHED-TTL:P3D
REFRESH-INTERVAL:P3D
CALSCALE:GREGORIAN
BEGIN:VEVENT
DTSTART:20230927T223000Z
DTEND:20230928T000000Z
X-MICROSOFT-CDO-ALLDAYEVENT:FALSE
SUMMARY:Insurance for Small Business
DESCRIPTION:The Turner Center for Entrepreneurship and Illinois SBDC at Bradley University are hosting a webinar on insurance issues/needs for those who are self-employed or have employees. Whether you're in the retail\, restaurant\, construction\, sales and service industry\, most small business owners need small business insurance. Without the "right" type of insurance\, you may have to pay out of pocket for claims and many small businesses do not have the resources or capital to cover such claims.  Learn why small business insurance is the most important investment in protecting YOUR company.\n\n \n\nTopic points: \n\nGeneral Liability Insurance\n\nProfessional Liability Insurance\n\nBusiness Income Insurance\n\nCommercial Property Insurance\n\nWorker's Compensation Insurance\n\nCommercial Auto Insurance\n\nEmployment Practices Liability Insurance\n\nBusiness Owner's Policy\n\n \n\nAttendees will have a foundation for the basics of understanding all insurance type coverages to protect them from risks such as: car accidents\, bodily injury\, property damage and even lawsuits. \n\n \n\nSpeakers:\n\n \n\nMike Kuhl\, President\, Kuhl Insurance\n\nMike has been in the insurance business for more than 29 years. His father\, Phil\, started Kuhl Insurance in 1979.  On March 1st of 2022\, Kuhl Insurance positioned itself for the future by joining forces with HUB International. The agency specializes in commercial\, employee benefits\, and personal insurance. Kuhl Insurance is in the Central Illinois community of Morton and employs 25 full-time staff.\n\n \n\nMike also serves the community in teaching a 5th grade class annually for Junior Achievement\, serving on the OSF Healthcare Community Advisory Board\, West Bend Agents Advisory Board\, Frankenmuth Agents Advisory Board\, Legacy of Hope Advisory Board\, and River Cup Foundation Board. \n\n \n\nEvelyn Becker\, Business Development Director\, Kuhl Insurance\n\nEvelyn joined Kuhl in 2014 after extensive experience managing HR\, safety and health programs for a multi-state\, 1\,200+ employee metal fabricator. She works closely with their clients' leadership and management teams to create culture change in their organizations.  She leads our STEP5 Risk Management Process\, providing services to their largest customers resulting in safer workplaces\, claims prevention\, and great places to work. Over her 9 years with Kuhl\, her role has grown to include new business development. Her responsibilities include commercial lines carrier relations\, sales management and agency marketing.\n\n \n\nEvelyn earned a BS degree in Business-Organizational Behavior from the University of Illinois\, Urbana-Champaign and an MBA from Bradley University. \n\n \n\nCo-Sponsor: Smart Start Dashboard\n\n \n\nRegistration information will be shared with training partners
X-ALT-DESC;FMTTYPE=text/html:<span style="color:#222222"><span style="font-family:times new roman\,serif">The Turner Center for Entrepreneurship and Illinois SBDC at Bradley University are hosting a webinar on insurance issues/needs for those who are self-employed or have employees. Whether you&rsquo\;re in the retail\, restaurant\, construction\, sales and service industry\, most small business <em>owners</em> need small business insurance. Without the &ldquo\;right&rdquo\; type of insurance\, you may have to pay out of pocket for claims and many small businesses do not have the resources or capital to cover such claims.&nbsp\; Learn why small business insurance is the most important investment in protecting YOUR company.</span></span><br />\n&nbsp\;<br />\n<span style="color:#222222"><span style="font-family:times new roman\,serif">Topic points: </span></span><br />\n<span style="color:#222222"><span style="font-family:times new roman\,serif">General Liability Insurance</span></span><br />\n<span style="color:#222222"><span style="font-family:times new roman\,serif">Professional Liability Insurance</span></span><br />\n<span style="color:#222222"><span style="font-family:times new roman\,serif">Business Income Insurance</span></span><br />\n<span style="color:#222222"><span style="font-family:times new roman\,serif">Commercial Property Insurance</span></span><br />\n<span style="color:#222222"><span style="font-family:times new roman\,serif">Worker&rsquo\;s Compensation Insurance</span></span><br />\n<span style="color:#222222"><span style="font-family:times new roman\,serif">Commercial Auto Insurance</span></span><br />\n<span style="color:#222222"><span style="font-family:times new roman\,serif">Employment Practices Liability Insurance</span></span><br />\n<span style="color:#222222"><span style="font-family:times new roman\,serif">Business Owner&rsquo\;s Policy</span></span><br />\n&nbsp\;<br />\n<span style="color:#222222"><span style="font-family:times new roman\,serif">Attendees will have a foundation for the basics of understanding all insurance type coverages to protect them from risks such as: car accidents\, bodily injury\, property damage and even lawsuits. </span></span><br />\n&nbsp\;<br />\n<strong><span style="color:#222222"><span style="font-family:times new roman\,serif">Speakers</span></span></strong><span style="color:#222222"><span style="font-family:times new roman\,serif">:</span></span><br />\n&nbsp\;<br />\n<strong><span style="font-family:times new roman\,serif"><span style="font-size:11.0pt">Mike Kuhl\,</span></span></strong><span style="color:windowtext"><span style="font-family:times new roman\,serif"><span style="font-size:11.0pt"> <strong>President\, Kuhl Insurance</strong></span></span></span><br />\n<span style="color:windowtext"><span style="font-family:times new roman\,serif"><span style="font-size:11.0pt">Mike has been in the insurance business for more than 29 years. His father\, Phil\, started Kuhl Insurance in 1979.&nbsp\; On March 1st of 2022\, Kuhl Insurance positioned itself for the future by joining forces with HUB International. The agency specializes in commercial\, employee benefits\, and personal insurance. Kuhl Insurance is in the Central Illinois community of Morton and employs 25 full-time staff.</span></span></span><br />\n&nbsp\;<br />\n<span style="font-family:times new roman\,serif"><span style="font-size:11.0pt">Mike also serves the community in teaching a 5th grade class annually for Junior Achievement\, serving on the OSF Healthcare Community Advisory Board\, West Bend Agents Advisory Board\, Frankenmuth Agents Advisory Board\, Legacy of Hope Advisory Board\, and River Cup Foundation Board. </span></span><br />\n&nbsp\;<br />\n<strong><span style="font-family:times new roman\,serif">Evelyn Becker\, Business Development Director\, Kuhl Insurance</span></strong><br />\n<span style="font-family:times new roman\,serif">Evelyn joined Kuhl in 2014 after extensive experience managing HR\, safety and health programs for a multi-state\, 1\,200+ employee metal fabricator. She works closely with their clients&rsquo\; leadership and management teams to create culture change in their organizations.&nbsp\; She leads our STEP<sup>5</sup> Risk Management Process\, providing services to their largest customers resulting in safer workplaces\, claims prevention\, and great places to work. Over her 9 years with Kuhl\, her role has grown to include new business development. Her responsibilities include commercial lines carrier relations\, sales management and agency marketing.</span><br />\n&nbsp\;<br />\n<span style="font-family:times new roman\,serif">Evelyn earned a BS degree in Business-Organizational Behavior from the University of Illinois\, Urbana-Champaign and an MBA from Bradley University. </span><br />\n&nbsp\;<br />\n<span style="font-family:times new roman\,serif">Co-Sponsor: Smart Start Dashboard</span><br />\n&nbsp\;<br />\n<span style="font-family:times new roman\,serif">Registration information will be shared with training partners</span>
LOCATION:Webinar. https://bit.ly/kuhlins9272023
UID:e.526.7296
SEQUENCE:3
DTSTAMP:20260422T085239Z
URL:https://business.epcc.org/events/details/insurance-for-small-business-7296
END:VEVENT

END:VCALENDAR
