BEGIN:VCALENDAR
VERSION:2.0
PRODID:-//ChamberMaster//Event Calendar 2.0//EN
METHOD:PUBLISH
X-PUBLISHED-TTL:P3D
REFRESH-INTERVAL:P3D
CALSCALE:GREGORIAN
BEGIN:VEVENT
DTSTART:20151016T140000Z
DTEND:20151016T170000Z
X-MICROSOFT-CDO-ALLDAYEVENT:FALSE
SUMMARY:Internet Essentials for Plus 55
DESCRIPTION:Learn the essentials of being a savvy Internet user. We'll show you how to use browsers to search for topics\, how to save your favorite Internet pages and how to protect your computer from viruses and spy-ware. Get all your questions answered and all the help you need.
X-ALT-DESC;FMTTYPE=text/html:Learn the essentials of being a savvy Internet user. We&#39\;ll show you how to use browsers to search for topics\, how to save your favorite Internet pages and how to protect your computer from viruses and spy-ware. Get all your questions answered and all the help you need.
LOCATION:Goodwill Commons Learning Center\, 2319 E. War Memorial Dr.\, Peoria\, IL 61614
UID:e.526.2816
SEQUENCE:3
DTSTAMP:20260424T215149Z
URL:https://business.epcc.org/events/details/internet-essentials-for-plus-55-10-16-2015-2816
END:VEVENT

END:VCALENDAR
