BEGIN:VCALENDAR
VERSION:2.0
PRODID:-//ChamberMaster//Event Calendar 2.0//EN
METHOD:PUBLISH
X-PUBLISHED-TTL:P3D
REFRESH-INTERVAL:P3D
CALSCALE:GREGORIAN
BEGIN:VEVENT
DTSTART;VALUE=DATE:20170602
DTEND;VALUE=DATE:20170603
TRANSP:TRANSPARENT
X-MICROSOFT-CDO-ALLDAYEVENT:TRUE
SUMMARY:Jazz Night in the Broadway Lounge featuring STEPHANIE AARON & LARRY HARMS!
DESCRIPTION:6/2 - Jazz Night in the Broadway Lounge featuring STEPHANIE AARON & LARRY HARMS! Show admission - $16pp. A reservation only/advance purchase dinner package is available at 6p for $41 plus tax and Appetizers/Desserts available from 7p   close! Show is at 8p. BroadwayPeoria.com or call 309-494-9100 to purchase seats.   Broadway Lounge
X-ALT-DESC;FMTTYPE=text/html:6/2 - Jazz Night in the Broadway Lounge featuring STEPHANIE AARON &amp\; LARRY HARMS! Show admission - $16pp. A reservation only/advance purchase dinner package is available at 6p for $41 plus tax and Appetizers/Desserts available from 7p &ndash\; close! Show is at 8p. BroadwayPeoria.com or call 309-494-9100 to purchase seats. &ndash\; Broadway Lounge
LOCATION:The Waterhouse's Broadway Lounge 316 SW Washington St Peoria\, IL 61602
UID:e.526.4338
SEQUENCE:3
DTSTAMP:20260422T072429Z
URL:https://business.epcc.org/events/details/jazz-night-in-the-broadway-lounge-featuring-stephanie-aaron-larry-harms-4338
END:VEVENT

END:VCALENDAR
