BEGIN:VCALENDAR
VERSION:2.0
PRODID:-//ChamberMaster//Event Calendar 2.0//EN
METHOD:PUBLISH
X-PUBLISHED-TTL:P3D
REFRESH-INTERVAL:P3D
CALSCALE:GREGORIAN
BEGIN:VEVENT
DTSTART:20211029T221500Z
DTEND:20211030T013000Z
X-MICROSOFT-CDO-ALLDAYEVENT:FALSE
SUMMARY:Jeep or Treat 2021
DESCRIPTION:We are excited to announce Jeep or Treat is returning for a 2nd year! Please join us for the 2021 Jeep or Treat by tricking out your Jeeps and handing out treats. There will be face painting\, photo booth\, trick or treating\, a bake sale\, food truck and hot coco and apple cider available for purchase. Jeep set up is starting at 5:15pm \, Trick or Treating will be open from 6:30pm to 8:30pm. Since we had such a large turn out last year we suggest planning for approximately 2\,000 trick or treaters! Please respond to this event if you plan to attend so we can accommodate spaces accordingly.
X-ALT-DESC;FMTTYPE=text/html:<span style="color: rgb(29\, 33\, 41)\; font-family: Helvetica\, Arial\, sans-serif\; font-size: 14px\; white-space: pre-wrap\;">We are excited to announce Jeep or Treat is returning for a 2nd year! Please join us for the 2021 Jeep or Treat by tricking out your Jeeps and handing out treats. There will be face painting\, photo booth\, trick or treating\, a bake sale\, food truck and hot coco and apple cider available for purchase. Jeep set up is starting at 5:15pm \, Trick or Treating will be open from 6:30pm to 8:30pm. Since we had such a large turn out last year we suggest planning for approximately 2\,000 trick or treaters! Please respond to this event if you plan to attend so we can accommodate spaces accordingly.</span>
LOCATION:Eastside Centre - 1 Eastside Dr\, East Peoria\, IL 61611
UID:e.526.6878
SEQUENCE:3
DTSTAMP:20260421T183406Z
URL:https://business.epcc.org/events/details/jeep-or-treat-2021-6878
END:VEVENT

END:VCALENDAR
